BEGIN:VCALENDAR
VERSION:2.0
PRODID:-//Herefordshire Meadows - ECPv6.15.20//NONSGML v1.0//EN
CALSCALE:GREGORIAN
METHOD:PUBLISH
X-WR-CALNAME:Herefordshire Meadows
X-ORIGINAL-URL:https://www.herefordshiremeadows.org.uk
X-WR-CALDESC:Events for Herefordshire Meadows
REFRESH-INTERVAL;VALUE=DURATION:PT1H
X-Robots-Tag:noindex
X-PUBLISHED-TTL:PT1H
BEGIN:VTIMEZONE
TZID:Europe/London
BEGIN:DAYLIGHT
TZOFFSETFROM:+0000
TZOFFSETTO:+0100
TZNAME:BST
DTSTART:20250330T010000
END:DAYLIGHT
BEGIN:STANDARD
TZOFFSETFROM:+0100
TZOFFSETTO:+0000
TZNAME:GMT
DTSTART:20251026T010000
END:STANDARD
BEGIN:DAYLIGHT
TZOFFSETFROM:+0000
TZOFFSETTO:+0100
TZNAME:BST
DTSTART:20260329T010000
END:DAYLIGHT
BEGIN:STANDARD
TZOFFSETFROM:+0100
TZOFFSETTO:+0000
TZNAME:GMT
DTSTART:20261025T010000
END:STANDARD
BEGIN:DAYLIGHT
TZOFFSETFROM:+0000
TZOFFSETTO:+0100
TZNAME:BST
DTSTART:20270328T010000
END:DAYLIGHT
BEGIN:STANDARD
TZOFFSETFROM:+0100
TZOFFSETTO:+0000
TZNAME:GMT
DTSTART:20271031T010000
END:STANDARD
END:VTIMEZONE
BEGIN:VEVENT
DTSTART;TZID=Europe/London:20260610T173000
DTEND;TZID=Europe/London:20260610T203000
DTSTAMP:20260423T213857
CREATED:20260415T151239Z
LAST-MODIFIED:20260415T151239Z
UID:5096-1781112600-1781123400@www.herefordshiremeadows.org.uk
SUMMARY:Feast on the Farm
DESCRIPTION:Join us on Wednesday 10th June at Caradoc courtesy of Dreda Darling to enjoy a true field to fork experience. Attendees will have the chance to visit some recently restored floodplain meadows before being treated to some delicious home reared beef cooked by Cookhouse on the Hill. \nThis event is being run in collaboration with the Herefordshire Food Alliance. \nSAVE THE DATE! \nBookings not yet open.
URL:https://www.herefordshiremeadows.org.uk/event/feast-on-the-farm/
LOCATION:Caradoc\, HR9 6LS
CATEGORIES:Events
END:VEVENT
BEGIN:VEVENT
DTSTART;TZID=Europe/London:20260624T170000
DTEND;TZID=Europe/London:20260624T190000
DTSTAMP:20260423T213858
CREATED:20260415T151528Z
LAST-MODIFIED:20260415T151528Z
UID:5100-1782320400-1782327600@www.herefordshiremeadows.org.uk
SUMMARY:Meadow Walk at Hancocks Meadow
DESCRIPTION:Join us on Wednesday 24th June for an evening meadow walk at Hancock’s Meadow courtesy of the Healey Family. Attendees will have the chance to visit a recently restored meadow and learn about the artisan raw ewe’s milk cheese produced on this 50-acre smallholding. \nSAVE THE DATE! \nBookings not yet open.
URL:https://www.herefordshiremeadows.org.uk/event/meadow-walk-at-hancocks-meadow/
LOCATION:Hancocks Meadow\, HR2 6NN
CATEGORIES:Events
END:VEVENT
BEGIN:VEVENT
DTSTART;TZID=Europe/London:20260704T140000
DTEND;TZID=Europe/London:20260704T170000
DTSTAMP:20260423T213858
CREATED:20260415T145308Z
LAST-MODIFIED:20260415T145334Z
UID:5084-1783173600-1783184400@www.herefordshiremeadows.org.uk
SUMMARY:National Meadows Day 2026
DESCRIPTION:Join us on Saturday 4th July at Warren Farm courtesy of James and Victoria Hawkins to celebrate National Meadows Day and Herefordshire Meadows’ 10th Anniversary celebrations. \n  \nSAVE THE DATE! \nBookings not yet open
URL:https://www.herefordshiremeadows.org.uk/event/national-meadows-day-2026/
LOCATION:WR6 5TB\, Warren Farm\, WR6 5TB\, United Kingdom
CATEGORIES:Events
END:VEVENT
END:VCALENDAR